BEGIN:VCALENDAR
VERSION:2.0
PRODID:-//ddaysoftware.com//NONSGML DDay.iCal 1.0//EN
BEGIN:VEVENT
DESCRIPTION:2G ENERGY AG Q1 Kennzahlen und Geschäftsentwicklung \n\n (https
 ://www.finanznachrichten.de)
DTEND;VALUE=DATE:20260503
DTSTAMP:20260421T102418Z
DTSTART;VALUE=DATE:20260502
LOCATION:
SEQUENCE:0
SUMMARY:2G ENERGY AG Q1 Kennzahlen und Geschäftsentwicklung 
UID:8e9b583b-ea87-4996-a786-c426d4e5cd39
END:VEVENT
END:VCALENDAR
