BEGIN:VCALENDAR
VERSION:2.0
PRODID:-//ddaysoftware.com//NONSGML DDay.iCal 1.0//EN
BEGIN:VEVENT
DESCRIPTION:LPKF LASER & ELECTRONICS SE Veröffentlichung Quartalsfinanzberi
 cht (Stichtag Q3)\n\n (https://www.finanznachrichten.de)
DTEND;VALUE=DATE:20261030
DTSTAMP:20260423T025821Z
DTSTART;VALUE=DATE:20261029
LOCATION:
SEQUENCE:0
SUMMARY:LPKF LASER & ELECTRONICS SE Veröffentlichung Quartalsfinanzbericht 
 (Stichtag Q3)
UID:bee8be99-f841-45df-9079-a3eceecdc1e6
END:VEVENT
END:VCALENDAR
