BEGIN:VCALENDAR
VERSION:2.0
PRODID:-//ddaysoftware.com//NONSGML DDay.iCal 1.0//EN
BEGIN:VEVENT
DESCRIPTION:SUSS MICROTEC SE Veröffentlichung Quartalsfinanzbericht (Sticht
 ag Q1)\n\n (https://www.finanznachrichten.de)
DTEND;VALUE=DATE:20250509
DTSTAMP:20260422T233124Z
DTSTART;VALUE=DATE:20250508
LOCATION:
SEQUENCE:0
SUMMARY:SUSS MICROTEC SE Veröffentlichung Quartalsfinanzbericht (Stichtag Q
 1)
UID:b56e1f22-f976-48b8-a16b-01de71ccd71a
END:VEVENT
END:VCALENDAR
