BEGIN:VCALENDAR
VERSION:2.0
PRODID:-//ddaysoftware.com//NONSGML DDay.iCal 1.0//EN
BEGIN:VEVENT
DESCRIPTION:HAWESKO HOLDING SE Veröffentlichung Halbjahresfinanzbericht\n\n
  (https://www.finanznachrichten.de)
DTEND;VALUE=DATE:20260813
DTSTAMP:20260422T002433Z
DTSTART;VALUE=DATE:20260812
LOCATION:
SEQUENCE:0
SUMMARY:HAWESKO HOLDING SE Veröffentlichung Halbjahresfinanzbericht
UID:a06e4431-46d2-4386-850e-5a32c85e7703
END:VEVENT
END:VCALENDAR
