BEGIN:VCALENDAR
VERSION:2.0
PRODID:-//ddaysoftware.com//NONSGML DDay.iCal 1.0//EN
BEGIN:VEVENT
DESCRIPTION:PROCREDIT HOLDING AG Veröffentlichung Jahresfinanzbericht\n\n (
 https://www.finanznachrichten.de)
DTEND;VALUE=DATE:20260320
DTSTAMP:20260424T024141Z
DTSTART;VALUE=DATE:20260319
LOCATION:
SEQUENCE:0
SUMMARY:PROCREDIT HOLDING AG Veröffentlichung Jahresfinanzbericht
UID:a03963d0-ec92-431d-8568-fa88fead459d
END:VEVENT
END:VCALENDAR
