BEGIN:VCALENDAR
VERSION:2.0
PRODID:-//ddaysoftware.com//NONSGML DDay.iCal 1.0//EN
BEGIN:VEVENT
DESCRIPTION:LPKF LASER & ELECTRONICS SE Veröffentlichung Halbjahresfinanzbe
 richt\n\n (https://www.finanznachrichten.de)
DTEND;VALUE=DATE:20260724
DTSTAMP:20260423T025821Z
DTSTART;VALUE=DATE:20260723
LOCATION:
SEQUENCE:0
SUMMARY:LPKF LASER & ELECTRONICS SE Veröffentlichung Halbjahresfinanzberich
 t
UID:fcd709e2-0fac-436a-b95b-2a8db4314c45
END:VEVENT
END:VCALENDAR
