BEGIN:VCALENDAR
VERSION:2.0
PRODID:-//ddaysoftware.com//NONSGML DDay.iCal 1.0//EN
BEGIN:VEVENT
DESCRIPTION:SYMRISE AG Zwischenmitteilung Januar – September 2025\n\n (http
 s://www.finanznachrichten.de)
DTEND;VALUE=DATE:20251029
DTSTAMP:20260423T010157Z
DTSTART;VALUE=DATE:20251028
LOCATION:
SEQUENCE:0
SUMMARY:SYMRISE AG Zwischenmitteilung Januar – September 2025
UID:08b42d38-f552-4033-83f5-ac3a78c55d96
END:VEVENT
END:VCALENDAR
