BEGIN:VCALENDAR
VERSION:2.0
PRODID:-//ddaysoftware.com//NONSGML DDay.iCal 1.0//EN
BEGIN:VEVENT
DESCRIPTION:SARTORIUS AG VZ Deutsches Eigenkapitalforum 2025\n\n (https://w
 ww.finanznachrichten.de)
DTEND;VALUE=DATE:20251126
DTSTAMP:20260422T220749Z
DTSTART;VALUE=DATE:20251125
LOCATION:
SEQUENCE:0
SUMMARY:SARTORIUS AG VZ Deutsches Eigenkapitalforum 2025
UID:99006f42-d1c1-4272-bb8e-80e612dac695
END:VEVENT
END:VCALENDAR
