BEGIN:VCALENDAR
VERSION:2.0
PRODID:-//ddaysoftware.com//NONSGML DDay.iCal 1.0//EN
BEGIN:VEVENT
DESCRIPTION:BECHTLE AG Analystenveranstaltung\n\n (https://www.finanznachri
 chten.de)
DTEND;VALUE=DATE:20260321
DTSTAMP:20260421T113336Z
DTSTART;VALUE=DATE:20260320
LOCATION:
SEQUENCE:0
SUMMARY:BECHTLE AG Analystenveranstaltung
UID:1bd3c0ac-d457-42f5-bf81-2291f869673e
END:VEVENT
END:VCALENDAR
