BEGIN:VCALENDAR
VERSION:2.0
PRODID:-//ddaysoftware.com//NONSGML DDay.iCal 1.0//EN
BEGIN:VEVENT
DESCRIPTION:COVESTRO AG Veröffentlichung Quartalsmitteilung (Stichtag Q3)\n
 \n (https://www.finanznachrichten.de)
DTEND;VALUE=DATE:20241030
DTSTAMP:20260423T155142Z
DTSTART;VALUE=DATE:20241029
LOCATION:
SEQUENCE:0
SUMMARY:COVESTRO AG Veröffentlichung Quartalsmitteilung (Stichtag Q3)
UID:b2b31f6b-6d4c-4b6c-aaa7-16c942340c0a
END:VEVENT
END:VCALENDAR
