BEGIN:VCALENDAR
VERSION:2.0
PRODID:-//ddaysoftware.com//NONSGML DDay.iCal 1.0//EN
BEGIN:VEVENT
DESCRIPTION:HANNOVER RUECK SE Veröffentlichung Quartalsfinanzbericht (Stich
 tag Q1)\n\n (https://www.finanznachrichten.de)
DTEND;VALUE=DATE:20250514
DTSTAMP:20260423T234704Z
DTSTART;VALUE=DATE:20250513
LOCATION:
SEQUENCE:0
SUMMARY:HANNOVER RUECK SE Veröffentlichung Quartalsfinanzbericht (Stichtag 
 Q1)
UID:50cdf2ba-df82-4957-ae8b-bf99d8536233
END:VEVENT
END:VCALENDAR
