BEGIN:VCALENDAR
VERSION:2.0
PRODID:-//ddaysoftware.com//NONSGML DDay.iCal 1.0//EN
BEGIN:VEVENT
DESCRIPTION:MWB FAIRTRADE WERTPAPIERHANDELSBANK AG m:access Fachkonferenz F
 inanzdienstleistungen an der Börse München\n\n (https://www.finanznachrich
 ten.de)
DTEND:20241009T235900
DTSTAMP:20260419T125701Z
DTSTART;VALUE=DATE:20241009
LOCATION:
SEQUENCE:0
SUMMARY:MWB FAIRTRADE WERTPAPIERHANDELSBANK AG m:access Fachkonferenz Finan
 zdienstleistungen an der Börse München
UID:a899b17e-d411-4ef6-a709-93950ef8f0f3
END:VEVENT
END:VCALENDAR
