BEGIN:VCALENDAR
VERSION:2.0
PRODID:-//ddaysoftware.com//NONSGML DDay.iCal 1.0//EN
BEGIN:VEVENT
DESCRIPTION:AIXTRON SE Veröffentlichung Quartalsfinanzbericht (Stichtag Q3)
 \n\n (https://www.finanznachrichten.de)
DTEND;VALUE=DATE:20251031
DTSTAMP:20260423T155103Z
DTSTART;VALUE=DATE:20251030
LOCATION:
SEQUENCE:0
SUMMARY:AIXTRON SE Veröffentlichung Quartalsfinanzbericht (Stichtag Q3)
UID:3d8b8aea-c26d-42fb-a7df-aefa00326665
END:VEVENT
END:VCALENDAR
