BEGIN:VCALENDAR
VERSION:2.0
PRODID:-//ddaysoftware.com//NONSGML DDay.iCal 1.0//EN
BEGIN:VEVENT
DESCRIPTION:GESCO SE Veröffentlichung Quartalsfinanzbericht (Stichtag Q1)\n
 \n (https://www.finanznachrichten.de)
DTEND;VALUE=DATE:20250510
DTSTAMP:20260421T012926Z
DTSTART;VALUE=DATE:20250509
LOCATION:
SEQUENCE:0
SUMMARY:GESCO SE Veröffentlichung Quartalsfinanzbericht (Stichtag Q1)
UID:046fc95f-99bf-4048-81b8-f293b3250813
END:VEVENT
END:VCALENDAR
