BEGIN:VCALENDAR
VERSION:2.0
PRODID:-//ddaysoftware.com//NONSGML DDay.iCal 1.0//EN
BEGIN:VEVENT
DESCRIPTION:PROCREDIT HOLDING AG Deutsches Eigenkapitalforum 2025\n\n (http
 s://www.finanznachrichten.de)
DTEND;VALUE=DATE:20251125
DTSTAMP:20260424T024141Z
DTSTART;VALUE=DATE:20251124
LOCATION:
SEQUENCE:0
SUMMARY:PROCREDIT HOLDING AG Deutsches Eigenkapitalforum 2025
UID:d91dce3b-e9de-4b77-aa38-c3c171244191
END:VEVENT
END:VCALENDAR
