BEGIN:VCALENDAR
VERSION:2.0
PRODID:-//ddaysoftware.com//NONSGML DDay.iCal 1.0//EN
BEGIN:VEVENT
DESCRIPTION:2G ENERGY AG Q3 Kennzahlen und Geschäftsentwicklung\n\n (https:
 //www.finanznachrichten.de)
DTEND;VALUE=DATE:20261124
DTSTAMP:20260421T102310Z
DTSTART;VALUE=DATE:20261123
LOCATION:
SEQUENCE:0
SUMMARY:2G ENERGY AG Q3 Kennzahlen und Geschäftsentwicklung
UID:4f290e95-98ce-409b-ba90-e26bdeaa4f54
END:VEVENT
END:VCALENDAR
