BEGIN:VCALENDAR
VERSION:2.0
PRODID:-//ddaysoftware.com//NONSGML DDay.iCal 1.0//EN
BEGIN:VEVENT
DESCRIPTION:SILTRONIC AG MKK - Münchner Kapitalmarkt Konferenz\, München\, 
 Deutschland \n\n\n (https://www.finanznachrichten.de)
DTEND;VALUE=DATE:20251113
DTSTAMP:20260421T030334Z
DTSTART;VALUE=DATE:20251112
LOCATION:
SEQUENCE:0
SUMMARY:SILTRONIC AG MKK - Münchner Kapitalmarkt Konferenz\, München\, Deut
 schland \n
UID:a0676d2a-7bd4-4a49-b44e-f030d99f5340
END:VEVENT
END:VCALENDAR
