BEGIN:VCALENDAR
VERSION:2.0
PRODID:-//ddaysoftware.com//NONSGML DDay.iCal 1.0//EN
BEGIN:VEVENT
DESCRIPTION:SYMRISE AG Unternehmensbericht 2025\n\n (https://www.finanznach
 richten.de)
DTEND;VALUE=DATE:20260305
DTSTAMP:20260423T010157Z
DTSTART;VALUE=DATE:20260304
LOCATION:
SEQUENCE:0
SUMMARY:SYMRISE AG Unternehmensbericht 2025
UID:6a08b841-712f-4f1a-af27-148bd03d656f
END:VEVENT
END:VCALENDAR
