BEGIN:VCALENDAR
VERSION:2.0
PRODID:-//ddaysoftware.com//NONSGML DDay.iCal 1.0//EN
BEGIN:VEVENT
DESCRIPTION:HAWESKO HOLDING SE Veröffentlichung Quartalsmitteilung (Stichta
 g Q3)\n\n (https://www.finanznachrichten.de)
DTEND;VALUE=DATE:20261113
DTSTAMP:20260422T002427Z
DTSTART;VALUE=DATE:20261112
LOCATION:
SEQUENCE:0
SUMMARY:HAWESKO HOLDING SE Veröffentlichung Quartalsmitteilung (Stichtag Q3
 )
UID:d26cc316-44d1-4eb8-a2e7-b22362832ff0
END:VEVENT
END:VCALENDAR
