BEGIN:VCALENDAR
VERSION:2.0
PRODID:-//ddaysoftware.com//NONSGML DDay.iCal 1.0//EN
BEGIN:VEVENT
DESCRIPTION:PROCREDIT HOLDING AG Veröffentlichung Halbjahresfinanzbericht\n
 \n (https://www.finanznachrichten.de)
DTEND;VALUE=DATE:20260814
DTSTAMP:20260424T024636Z
DTSTART;VALUE=DATE:20260813
LOCATION:
SEQUENCE:0
SUMMARY:PROCREDIT HOLDING AG Veröffentlichung Halbjahresfinanzbericht
UID:4d4c5192-5ffd-407d-b88d-24cacf743263
END:VEVENT
END:VCALENDAR
