BEGIN:VCALENDAR
VERSION:2.0
PRODID:-//ddaysoftware.com//NONSGML DDay.iCal 1.0//EN
BEGIN:VEVENT
DESCRIPTION:GESCO SE Veröffentlichung Halbjahresfinanzbericht\n\n (https://
 www.finanznachrichten.de)
DTEND;VALUE=DATE:20250814
DTSTAMP:20260422T144720Z
DTSTART;VALUE=DATE:20250813
LOCATION:
SEQUENCE:0
SUMMARY:GESCO SE Veröffentlichung Halbjahresfinanzbericht
UID:770b47d7-d3ba-4a0a-9120-b0abe7a6e680
END:VEVENT
END:VCALENDAR
