BEGIN:VCALENDAR
VERSION:2.0
PRODID:-//ddaysoftware.com//NONSGML DDay.iCal 1.0//EN
BEGIN:VEVENT
DESCRIPTION:HAWESKO HOLDING SE Hauptversammlung\n\n (https://www.finanznach
 richten.de)
DTEND;VALUE=DATE:20260611
DTSTAMP:20260422T002428Z
DTSTART;VALUE=DATE:20260610
LOCATION:
SEQUENCE:0
SUMMARY:HAWESKO HOLDING SE Hauptversammlung
UID:f993f57c-2773-43bd-be92-6fda9036a791
END:VEVENT
END:VCALENDAR
