BEGIN:VCALENDAR
VERSION:2.0
PRODID:-//ddaysoftware.com//NONSGML DDay.iCal 1.0//EN
BEGIN:VEVENT
DESCRIPTION:BASLER AG Hauptversammlung\n\n (https://www.finanznachrichten.d
 e)
DTEND;VALUE=DATE:20260602
DTSTAMP:20260420T105959Z
DTSTART;VALUE=DATE:20260601
LOCATION:
SEQUENCE:0
SUMMARY:BASLER AG Hauptversammlung
UID:314f9943-a915-41e4-a90a-760544899a77
END:VEVENT
END:VCALENDAR
