BEGIN:VCALENDAR
VERSION:2.0
PRODID:-//ddaysoftware.com//NONSGML DDay.iCal 1.0//EN
BEGIN:VEVENT
DESCRIPTION:MWB FAIRTRADE WERTPAPIERHANDELSBANK AG Veröffentlichung des Jah
 resergebnisses 2024\n\n (https://www.finanznachrichten.de)
DTEND:20250528T235500
DTSTAMP:20260419T125702Z
DTSTART;VALUE=DATE:20250528
LOCATION:
SEQUENCE:0
SUMMARY:MWB FAIRTRADE WERTPAPIERHANDELSBANK AG Veröffentlichung des Jahrese
 rgebnisses 2024
UID:4f2c711b-6e91-49da-a38c-1cfaf08504e3
END:VEVENT
END:VCALENDAR
