BEGIN:VCALENDAR
VERSION:2.0
PRODID:-//ddaysoftware.com//NONSGML DDay.iCal 1.0//EN
BEGIN:VEVENT
DESCRIPTION:HANNOVER RUECK SE Veröffentlichung Jahresfinanzbericht\n\n (htt
 ps://www.finanznachrichten.de)
DTEND;VALUE=DATE:20250314
DTSTAMP:20260423T234704Z
DTSTART;VALUE=DATE:20250313
LOCATION:
SEQUENCE:0
SUMMARY:HANNOVER RUECK SE Veröffentlichung Jahresfinanzbericht
UID:9ba59db1-7441-40bb-8842-0763ccfe3fdd
END:VEVENT
END:VCALENDAR
