BEGIN:VCALENDAR
VERSION:2.0
PRODID:-//ddaysoftware.com//NONSGML DDay.iCal 1.0//EN
BEGIN:VEVENT
DESCRIPTION:RATIONAL AG Hauptversammlung 2023\n\n (https://www.finanznachri
 chten.de)
DTEND;VALUE=DATE:20230511
DTSTAMP:20260420T055145Z
DTSTART;VALUE=DATE:20230510
LOCATION:
SEQUENCE:0
SUMMARY:RATIONAL AG Hauptversammlung 2023
UID:ffba0ca7-2648-46db-acd4-ccf05afa2056
END:VEVENT
END:VCALENDAR
