BEGIN:VCALENDAR
VERSION:2.0
PRODID:-//ddaysoftware.com//NONSGML DDay.iCal 1.0//EN
BEGIN:VEVENT
DESCRIPTION:2G ENERGY AG Deutsches Eigenkapitalforum (23.-25.11.2026)\n\n (
 https://www.finanznachrichten.de)
DTEND;VALUE=DATE:20261124
DTSTAMP:20260421T102418Z
DTSTART;VALUE=DATE:20261123
LOCATION:
SEQUENCE:0
SUMMARY:2G ENERGY AG Deutsches Eigenkapitalforum (23.-25.11.2026)
UID:382f36cb-84f3-431c-9c9a-134c75283fe5
END:VEVENT
END:VCALENDAR
