BEGIN:VCALENDAR
VERSION:2.0
PRODID:-//ddaysoftware.com//NONSGML DDay.iCal 1.0//EN
BEGIN:VEVENT
DESCRIPTION:PROCREDIT HOLDING AG Hauptversammlung\n\n (https://www.finanzna
 chrichten.de)
DTEND;VALUE=DATE:20260604
DTSTAMP:20260424T024643Z
DTSTART;VALUE=DATE:20260603
LOCATION:
SEQUENCE:0
SUMMARY:PROCREDIT HOLDING AG Hauptversammlung
UID:4bbc3584-cdc1-4b82-9552-fdca95646289
END:VEVENT
END:VCALENDAR
