BEGIN:VCALENDAR
VERSION:2.0
PRODID:-//ddaysoftware.com//NONSGML DDay.iCal 1.0//EN
BEGIN:VEVENT
DESCRIPTION:2G ENERGY AG Frühjahrskonferenz (11.-12.05.2026)\n\n (https://w
 ww.finanznachrichten.de)
DTEND;VALUE=DATE:20260512
DTSTAMP:20260421T102404Z
DTSTART;VALUE=DATE:20260511
LOCATION:
SEQUENCE:0
SUMMARY:2G ENERGY AG Frühjahrskonferenz (11.-12.05.2026)
UID:9349978a-91f5-44b5-af4a-62627242a661
END:VEVENT
END:VCALENDAR
