BEGIN:VCALENDAR
VERSION:2.0
PRODID:-//ddaysoftware.com//NONSGML DDay.iCal 1.0//EN
BEGIN:VEVENT
DESCRIPTION:EDEL SE & CO KGAA Veröffentlichung Halbjahresabschluss\n\n (htt
 ps://www.finanznachrichten.de)
DTEND;VALUE=DATE:20160601
DTSTAMP:20260422T015947Z
DTSTART;VALUE=DATE:20160531
LOCATION:
SEQUENCE:0
SUMMARY:EDEL SE & CO KGAA Veröffentlichung Halbjahresabschluss
UID:1f7c6666-3176-45f9-8fd3-977f58632052
END:VEVENT
END:VCALENDAR
