BEGIN:VCALENDAR
VERSION:2.0
PRODID:-//ddaysoftware.com//NONSGML DDay.iCal 1.0//EN
BEGIN:VEVENT
DESCRIPTION:LPKF LASER & ELECTRONICS SE Hauptversammlung\n\n (https://www.f
 inanznachrichten.de)
DTEND;VALUE=DATE:20260605
DTSTAMP:20260423T025706Z
DTSTART;VALUE=DATE:20260604
LOCATION:
SEQUENCE:0
SUMMARY:LPKF LASER & ELECTRONICS SE Hauptversammlung
UID:79e4aeb9-db00-401a-9b76-685d52f0252c
END:VEVENT
END:VCALENDAR
