BEGIN:VCALENDAR
VERSION:2.0
PRODID:-//ddaysoftware.com//NONSGML DDay.iCal 1.0//EN
BEGIN:VEVENT
DESCRIPTION:TONIES SE MKK - Münchner Kapitalmarkt Konferenz\n\n (https://ww
 w.finanznachrichten.de)
DTEND;VALUE=DATE:20260424
DTSTAMP:20260422T172720Z
DTSTART;VALUE=DATE:20260423
LOCATION:
SEQUENCE:0
SUMMARY:TONIES SE MKK - Münchner Kapitalmarkt Konferenz
UID:ab7a0fe1-5a9e-46d2-979b-bb54f9026986
END:VEVENT
END:VCALENDAR
