BEGIN:VCALENDAR
VERSION:2.0
PRODID:-//ddaysoftware.com//NONSGML DDay.iCal 1.0//EN
BEGIN:VEVENT
DESCRIPTION:HOMETOGO SE Münchner Kapitalmarkt Konferenz\n\n (https://www.fi
 nanznachrichten.de)
DTEND:20260422T235900
DTSTAMP:20260422T002020Z
DTSTART;VALUE=DATE:20260422
LOCATION:
SEQUENCE:0
SUMMARY:HOMETOGO SE Münchner Kapitalmarkt Konferenz
UID:c91f8f19-f099-4cb3-897c-45b5fb579a32
END:VEVENT
END:VCALENDAR
