BEGIN:VCALENDAR
VERSION:2.0
PRODID:-//ddaysoftware.com//NONSGML DDay.iCal 1.0//EN
BEGIN:VEVENT
DESCRIPTION:LPKF LASER & ELECTRONICS SE Veröffentlichung Quartalsfinanzberi
 cht (Stichtag Q1)\n\n (https://www.finanznachrichten.de)
DTEND;VALUE=DATE:20250501
DTSTAMP:20260423T025459Z
DTSTART;VALUE=DATE:20250430
LOCATION:
SEQUENCE:0
SUMMARY:LPKF LASER & ELECTRONICS SE Veröffentlichung Quartalsfinanzbericht 
 (Stichtag Q1)
UID:2c284d72-c838-4ad2-b881-21d9bf570407
END:VEVENT
END:VCALENDAR
