BEGIN:VCALENDAR
VERSION:2.0
PRODID:-//ddaysoftware.com//NONSGML DDay.iCal 1.0//EN
BEGIN:VEVENT
DESCRIPTION:DEUTSCHE TELEKOM AG Veröffentlichung Quartalsfinanzbericht (Sti
 chtag Q3)\n\n (https://www.finanznachrichten.de)
DTEND;VALUE=DATE:20251114
DTSTAMP:20260419T125702Z
DTSTART;VALUE=DATE:20251113
LOCATION:
SEQUENCE:0
SUMMARY:DEUTSCHE TELEKOM AG Veröffentlichung Quartalsfinanzbericht (Stichta
 g Q3)
UID:30a62299-8f45-4fac-96c7-2f191a2a961a
END:VEVENT
END:VCALENDAR
