BEGIN:VCALENDAR
VERSION:2.0
PRODID:-//ddaysoftware.com//NONSGML DDay.iCal 1.0//EN
BEGIN:VEVENT
DESCRIPTION:DEUTSCHE TELEKOM AG Hauptversammlung\n\n (https://www.finanznac
 hrichten.de)
DTEND;VALUE=DATE:20250410
DTSTAMP:20260419T125701Z
DTSTART;VALUE=DATE:20250409
LOCATION:
SEQUENCE:0
SUMMARY:DEUTSCHE TELEKOM AG Hauptversammlung
UID:247e3103-1560-40c6-82c6-c75bc91347fc
END:VEVENT
END:VCALENDAR
