BEGIN:VCALENDAR
VERSION:2.0
PRODID:-//ddaysoftware.com//NONSGML DDay.iCal 1.0//EN
BEGIN:VEVENT
DESCRIPTION:AIXTRON SE Veröffentlichung Quartalsmitteilung (Stichtag Q3)\n\
 n (https://www.finanznachrichten.de)
DTEND;VALUE=DATE:20261030
DTSTAMP:20260423T155424Z
DTSTART;VALUE=DATE:20261029
LOCATION:
SEQUENCE:0
SUMMARY:AIXTRON SE Veröffentlichung Quartalsmitteilung (Stichtag Q3)
UID:23f9f59c-572a-43bf-94c7-6f88668a418f
END:VEVENT
END:VCALENDAR
