BEGIN:VCALENDAR
VERSION:2.0
PRODID:-//ddaysoftware.com//NONSGML DDay.iCal 1.0//EN
BEGIN:VEVENT
DESCRIPTION:COVESTRO AG Hauptversammlung\n\n (https://www.finanznachrichten
 .de)
DTEND;VALUE=DATE:20250418
DTSTAMP:20260423T155103Z
DTSTART;VALUE=DATE:20250417
LOCATION:
SEQUENCE:0
SUMMARY:COVESTRO AG Hauptversammlung
UID:1d5cdf73-a639-4a2b-957c-fb40ff76c80c
END:VEVENT
END:VCALENDAR
