BEGIN:VCALENDAR
VERSION:2.0
PRODID:-//ddaysoftware.com//NONSGML DDay.iCal 1.0//EN
BEGIN:VEVENT
DESCRIPTION:SYMRISE AG Hauptversammlung 2026\n\n (https://www.finanznachric
 hten.de)
DTEND;VALUE=DATE:20260507
DTSTAMP:20260423T010419Z
DTSTART;VALUE=DATE:20260506
LOCATION:
SEQUENCE:0
SUMMARY:SYMRISE AG Hauptversammlung 2026
UID:59145920-39e8-4b88-bf8f-798d0a5cd437
END:VEVENT
END:VCALENDAR
