BEGIN:VCALENDAR
VERSION:2.0
PRODID:-//ddaysoftware.com//NONSGML DDay.iCal 1.0//EN
BEGIN:VEVENT
DESCRIPTION:FLATEXDEGIRO SE https://flatexdegiro.com/German/investor-relati
 ons/reporting/default.aspx\n\n (https://www.finanznachrichten.de)
DTEND;VALUE=DATE:20260327
DTSTAMP:20260420T084232Z
DTSTART;VALUE=DATE:20260326
LOCATION:
SEQUENCE:0
SUMMARY:FLATEXDEGIRO SE https://flatexdegiro.com/German/investor-relations/
 reporting/default.aspx
UID:163fd593-942a-449d-89d3-c058923d6d3a
END:VEVENT
END:VCALENDAR
