BEGIN:VCALENDAR
VERSION:2.0
PRODID:-//ddaysoftware.com//NONSGML DDay.iCal 1.0//EN
BEGIN:VEVENT
DESCRIPTION:BASLER AG Veröffentlichung Quartalsfinanzbericht (Stichtag Q1)\
 n\n (https://www.finanznachrichten.de)
DTEND;VALUE=DATE:20260507
DTSTAMP:20260420T105910Z
DTSTART;VALUE=DATE:20260506
LOCATION:
SEQUENCE:0
SUMMARY:BASLER AG Veröffentlichung Quartalsfinanzbericht (Stichtag Q1)
UID:c0da0c08-6c9d-4a10-addf-5b66cf34ebe7
END:VEVENT
END:VCALENDAR
