BEGIN:VCALENDAR
VERSION:2.0
PRODID:-//ddaysoftware.com//NONSGML DDay.iCal 1.0//EN
BEGIN:VEVENT
DESCRIPTION:MWB FAIRTRADE WERTPAPIERHANDELSBANK AG Corporate News zum Halbj
 ahresergebnis 2022\n\n (https://www.finanznachrichten.de)
DTEND;VALUE=DATE:20220719
DTSTAMP:20260419T125702Z
DTSTART;VALUE=DATE:20220718
LOCATION:
SEQUENCE:0
SUMMARY:MWB FAIRTRADE WERTPAPIERHANDELSBANK AG Corporate News zum Halbjahre
 sergebnis 2022
UID:f66999b6-5659-4c9e-b3b5-6bf4ebbfa18a
END:VEVENT
END:VCALENDAR
