BEGIN:VCALENDAR
VERSION:2.0
PRODID:-//ddaysoftware.com//NONSGML DDay.iCal 1.0//EN
BEGIN:VEVENT
DESCRIPTION:DEUTSCHE BOERSE AG Analysten- und Investorenkonferenz Q1/2026\n
 \n (https://www.finanznachrichten.de)
DTEND;VALUE=DATE:20260429
DTSTAMP:20260422T173105Z
DTSTART;VALUE=DATE:20260428
LOCATION:
SEQUENCE:0
SUMMARY:DEUTSCHE BOERSE AG Analysten- und Investorenkonferenz Q1/2026
UID:0ab633d1-f7b5-441d-bbbc-032e4e06b3d8
END:VEVENT
END:VCALENDAR
