BEGIN:VCALENDAR
VERSION:2.0
PRODID:-//ddaysoftware.com//NONSGML DDay.iCal 1.0//EN
BEGIN:VEVENT
DESCRIPTION:BASLER AG Analystenveranstaltung\n\n (https://www.finanznachric
 hten.de)
DTEND;VALUE=DATE:20261125
DTSTAMP:20260420T105911Z
DTSTART;VALUE=DATE:20261124
LOCATION:
SEQUENCE:0
SUMMARY:BASLER AG Analystenveranstaltung
UID:9ac397e8-93fd-48b4-a9cf-2c53d5557e81
END:VEVENT
END:VCALENDAR
