BEGIN:VCALENDAR
VERSION:2.0
PRODID:-//ddaysoftware.com//NONSGML DDay.iCal 1.0//EN
BEGIN:VEVENT
DESCRIPTION:FIELMANN GROUP AG Veröffentlichung Quartalsmitteilung (Stichtag
  Q1)\n\n (https://www.finanznachrichten.de)
DTEND;VALUE=DATE:20260501
DTSTAMP:20260420T031336Z
DTSTART;VALUE=DATE:20260430
LOCATION:
SEQUENCE:0
SUMMARY:FIELMANN GROUP AG Veröffentlichung Quartalsmitteilung (Stichtag Q1)
UID:80d0929e-819d-4d55-b0d9-b3d89569b61b
END:VEVENT
END:VCALENDAR
