BEGIN:VCALENDAR
VERSION:2.0
PRODID:-//ddaysoftware.com//NONSGML DDay.iCal 1.0//EN
BEGIN:VEVENT
DESCRIPTION:KION GROUP AG Hauptversammlung\n\n (https://www.finanznachricht
 en.de)
DTEND;VALUE=DATE:20250528
DTSTAMP:20260420T181420Z
DTSTART;VALUE=DATE:20250527
LOCATION:
SEQUENCE:0
SUMMARY:KION GROUP AG Hauptversammlung
UID:50f5bfa1-b7dc-467d-8cc2-0c10afb79bd9
END:VEVENT
END:VCALENDAR
