BEGIN:VCALENDAR
VERSION:2.0
PRODID:-//ddaysoftware.com//NONSGML DDay.iCal 1.0//EN
BEGIN:VEVENT
DESCRIPTION:LPKF LASER & ELECTRONICS SE Analystenveranstaltung\n\n (https:/
 /www.finanznachrichten.de)
DTEND;VALUE=DATE:20260327
DTSTAMP:20260423T025459Z
DTSTART;VALUE=DATE:20260326
LOCATION:
SEQUENCE:0
SUMMARY:LPKF LASER & ELECTRONICS SE Analystenveranstaltung
UID:4823e6d1-2312-4290-a92a-e471dd8bc916
END:VEVENT
END:VCALENDAR
