BEGIN:VCALENDAR
VERSION:2.0
PRODID:-//ddaysoftware.com//NONSGML DDay.iCal 1.0//EN
BEGIN:VEVENT
DESCRIPTION:2G ENERGY AG Berenberg Pan-European Discovery Konferenz 11.-12.
 06.2026\n\n (https://www.finanznachrichten.de)
DTEND;VALUE=DATE:20260612
DTSTAMP:20260421T102229Z
DTSTART;VALUE=DATE:20260611
LOCATION:
SEQUENCE:0
SUMMARY:2G ENERGY AG Berenberg Pan-European Discovery Konferenz 11.-12.06.2
 026
UID:b5432237-f4a4-42d4-884f-7830a7be367d
END:VEVENT
END:VCALENDAR
