BEGIN:VCALENDAR
VERSION:2.0
PRODID:-//ddaysoftware.com//NONSGML DDay.iCal 1.0//EN
BEGIN:VEVENT
DESCRIPTION:SUSS MICROTEC SE Veröffentlichung Halbjahresfinanzbericht\n\n (
 https://www.finanznachrichten.de)
DTEND;VALUE=DATE:20250808
DTSTAMP:20260422T233125Z
DTSTART;VALUE=DATE:20250807
LOCATION:
SEQUENCE:0
SUMMARY:SUSS MICROTEC SE Veröffentlichung Halbjahresfinanzbericht
UID:dccd3ee5-5986-4341-bd05-258a4c3b8a4b
END:VEVENT
END:VCALENDAR
