BEGIN:VCALENDAR
VERSION:2.0
PRODID:-//ddaysoftware.com//NONSGML DDay.iCal 1.0//EN
BEGIN:VEVENT
DESCRIPTION:GESCO SE Veröffentlichung Jahresfinanzbericht\n\n (https://www.
 finanznachrichten.de)
DTEND;VALUE=DATE:20250430
DTSTAMP:20260421T012926Z
DTSTART;VALUE=DATE:20250429
LOCATION:
SEQUENCE:0
SUMMARY:GESCO SE Veröffentlichung Jahresfinanzbericht
UID:10ea4f04-8f6a-49df-ba52-57fd3f243bc5
END:VEVENT
END:VCALENDAR
